Workbook

Sheet user
A1: Tabella per calcolo revisione prezzi servizi e forniture All. II.2 bis Dlgs. 36/2023 CALCOLO E REVISIONE SU TUTTI I CPV
A2: Si raccomanda di leggere attentamente le istruzioni allegate per un funzionamento corretto della tabella. NB: Versione beta – verificare i calcoli. Non siamo responsabili per discrepanze o errori.
A3: Step finale risultato | B3: IMPORTO REVISIONE PREZZI RICONOSCIUTO | F3: =xyz!C11 -> 2413.4653
A6: Step 1 | B6: Seleziona dal menù a tendina il numero CPV della gara | F6: 3 CPV
B8: CPV 1 | C8: inserisci codice e descrizione
B9: Inserisci importo totale CPV 1 | D9: 100000
B10: Seleziona dal menù a tendina il numero di indici | F10: 3 Index
C11: inserisci i codice degli indici | D11: indice aggiudicazione | E11: indice revisionale | F11: Peso indice in percentuale
B12: indice 1 | C12: inserisci indice | D12: 101 | E12: 109.4 | F12: 1
B13: indice 2 | C13: inserisci indice | D13: 0 | E13: 0 | F13: 0
B14: indice 3 | C14: inserisci indice | D14: 0 | E14: 0 | F14: 0
B15: Attenzione la somma di pesi deve dare 100% | F15: =SUM(F12:F14) -> 1
B18: CPV 2 | C18: inserisci codice e descrizione
B19: Inserisci importo totale CPV 2 | D19: 100000
B20: Seleziona dal menù a tendina il numero di indici | F20: 3 Index
C21: inserisci i codice degli indici | D21: indice aggiudicazione | E21: indice revisionale | F21: Peso indice in percentuale
B22: indice 1 | C22: inserisci indice | D22: 100 | E22: 104.7 | F22: 1
B23: indice 2 | C23: inserisci indice | D23: 0 | E23: 0 | F23: 0
B24: indice 3 | C24: inserisci indice | D24: 0 | E24: 0 | F24: 0
B25: Attenzione la somma di pesi deve dare 100% | F25: =SUM(F22:F24) -> 1
B28: CPV 3 | C28: inserisci codice e descrizione
B29: Inserisci importo totale CPV 3 | D29: 0
B30: Seleziona dal menù a tendina il numero di indici | F30: 3 Index
C31: inserisci i codice degli indici | D31: indice aggiudicazione | E31: indice revisionale | F31: Peso indice in percentuale
B32: indice 1 | C32: inserisci indice | D32: 0 | E32: 0 | F32: 0
B33: indice 2 | C33: inserisci indice | D33: 0 | E33: 0 | F33: 0
B34: indice 3 | C34: inserisci indice | D34: 0 | E34: 0 | F34: 0
B35: Attenzione la somma di pesi deve dare 100% | F35: =SUM(F32:F34) -> 0
B37: NB: Versione beta – verificare i calcoli. Non siamo responsabili per discrepanze o errori.
B38: Nota: Per gli indici PC (Prezzi al Consumo), qualora il confronto avvenga tra indici con base 2015=100 e base 2025=100, è necessario applicare il coefficiente di raccordo. Per maggiori dettagli ed esempi di calcolo si rimanda al Vademecum Revisione Prezzi.
B41: CC BY-NC (Attribution-NonCommercial) - Common use allowed; commercial use prohibited. Created by Werner Bonadio & Francesco Salvetta & ACP/AOV

Sheet xyz
B2: MONITORAGGIO CLAUSOLA REVISIONALE PREZZI
B5: TOTALE IMPORTO DA REVISIONARE | C5: =C15+F15+I15 -> 200000
B6: Ponderazione INDICI CPV1 - CPV2 e CPV3 (C14*C13 + F14*F13 + L14*L13) / (C13 + F13 + L13) | C6: =((C15*C16)+(F15*F16)+(I15*I16))/(C15+F15+I15) -> 0.065084158 | D6: Variazione percentuale ponderata complessiva
B7: 0.012484211 | D7: Percentuale riconosciuta: eccedenza della media ponderata oltre il 5% × 80%
B11: IMPORTO REVISIONE PREZZI RICONOSCIUTO | C11: =IF(AND(C6>=-5%,C6<=5%),0,C5*80%*IF(C6>5%,C6-5%,C6+5%)) -> 2413.4653 | D11: Calcolo standard su media ponderata: se la variazione ponderata supera ±5%, si applica l’80% solo all’eccedenza della soglia del 5% sull’importo complessivo del contratto.
C12: =IF(OR(C40<>"", F40<>"", L40<>""), "ERROR: Check row 37!", "")
C13: =C15*5% -> 5000 | F13: =F15*5% -> 5000 | I13: =I15*5% -> 0
B14: 5% del importo complessivo del contratto | C14: =IF(C19<0, -C13, C13) -> 5000 | E14: 5% del importo complessivo del contratto | F14: =IF(F19<0, -F13, F13) -> 5000 | H14: 5% del importo complessivo del contratto | I14: =IF(I19<0, -I13, I13) -> 0
A15: Step 1 | B15: IMPORTO DI GARA COMPLESSIVO COME DA CONTRATTO - CPV 1 | C15: =user!D9 -> 100000 | E15: IMPORTO DI GARA DA CONTRATTO - CPV 2 | F15: =user!D19 -> 100000 | H15: IMPORTO DI GARA DA CONTRATTO - CPV 3 | I15: =user!D29 -> 0
B16: Variazione del relativo indice composto (vedi cella C41) | C16: =C41 -> 0.083168317 | E16: Variazione percentuale totale indici - valore ripreso da cella F41 | F16: =F41 -> 0.047 | H16: Variazione percentuale totale indici - valore ripreso da cella I41 | I16: =I41 -> 0
A17: Step 5 | B17: Importo complessivo del contratto comprensivo di aumento o diminuzione Formula = C15 + (C15*C16) | C17: =C15+(C15*C16) -> 108316.83 | E17: Importo complessivo del contratto comprensivo di aumento o diminuzione Formula = F15 + (F15*F16) | F17: =F15+(F15*F16) -> 104700 | H17: Importo complessivo del contratto comprensivo di aumento o diminuzione Formula = l13 + (l13*l14) | I17: =I15+(I15*I16) -> 0
B18: Importo complessivo del contratto comprensivo di aumento o diminuzione | C18: =IF(ABS(C16) <= 5%, 0, C15 * (1 + C16)) -> 108316.83 | E18: Importo complessivo del contratto comprensivo di aumento o diminuzione | F18: =IF(ABS(F16) <= 5%, 0, F15 * (1 + F16)) -> 0 | H18: Importo complessivo del contratto comprensivo di aumento o diminuzione | I18: =IF(ABS(I16) <= 5%, 0, I15 * (1 + I16)) -> 0
A19: Step 6 | B19: Variazione in aumento o diminuzione dell' importo complessivo del contratto. Il valore apparirà solo nel caso in cui l'aumento o la diminuzione supereranno il 5% - Formula If >5% (C17-C15) | C19: =IF(ABS(C16) > 5%, C15*C16, 0) -> 8316.8317 | E19: Variazione in aumento o diminuzione dell' importo complessivo del contratto. Il valore apparirà solo nel caso in cui l'aumento o la diminuzione supereranno il 5% - Formula If >5% (F17-F15) | F19: =IF(ABS(F16) > 5%, F15*F16, 0) -> 0 | H19: Variazione in aumento o diminuzione dell' importo complessivo del contratto. Il valore apparirà solo nel caso in cui l'aumento o la diminuzione supereranno il 5% - Formula If >5% (l17-l15) | I19: =IF(ABS(I16) > 5%, I15*I16, 0) -> 0
A20: Step 7 | B20: Variazione in aumento o diminuzione dell' importo complessivo del contratto meno 5% dell'importo complessivo del contratto. Formula C19 - C14 | C20: =C19-C14 -> 3316.8317 | E20: Variazione in aumento o diminuzione dell' importo complessivo del contratto meno 5% dell'importo complessivo del contratto. Formula F19 - F14 | F20: =F19-F14 -> -5000 | H20: Variazione in aumento o diminuzione dell' importo complessivo del contratto meno 5% dell'importo complessivo del contratto. Formula I19 - I14 | I20: =I19-I14 -> 0
A21: Step 8 | B21: Revisione netta in aumento o diminuzione dell'importo complessivo del contratto Formula 80% della cella C20 | C21: =IF(AND(C16 >= -5%, C16 <= 5%), "", (C17 - C15) * 80% * IF(C16 > 5%, (C16 - 5%) / C16, IF(C16 < -5%, (C16 + 5%) / C16, 1))) -> 2653.4653 | E21: Differenza in aumento o diminuzione CPV 80% di (F17 - 5% di F13) | F21: =IF(AND(F16 >= -5%, F16 <= 5%), "", (F17 - F15) * 80% * IF(F16 > 5%, (F16 - 5%) / F16, IF(F16 < -5%, (F16 + 5%) / F16, 1))) | H21: Differenza in aumento o diminuzione CPV 80% di (l17 - 5% di l13) | I21: =IF(AND(I16 >= -5%, I16 <= 5%), "", (I17 - I15) * 80% * IF(I16 > 5%, (I16 - 5%) / I16, IF(I16 < -5%, (I16 + 5%) / I16, 1)))
B22: CPV - 1 | E22: CPV - 2 | H22: CPV - 3
A23: Step 2 | B23: INDICE - 1 | E23: INDICE-1 | H23: INDICE-1 inserire il peso in riga 30
B24: Indice al momento dell'aggiudicazione | C24: Indice al momento della revisione della clausola revisionale secondo frequenza | E24: Indice al momento dell'aggiudicazione | F24: Indice al momento della revisione della clausola revisionale secondo frequenza | H24: Indice al momento dell'aggiudicazione | I24: Indice al momento della revisione della clausola revisionale secondo frequenza
B25: =user!D12 -> 101 | C25: =user!E12 -> 109.4 | E25: =user!D22 -> 100 | F25: =user!E22 -> 104.7 | H25: =user!D32 -> 0 | I25: =user!E32 -> 0
B26: =IF(B25=0, IF(C25=0, 0, "DIV/0!"), (C25-B25)/B25) -> 0.083168317 | C26: Variazione percentuale prezzi - (C25-B25)/B25 | E26: =IF(E25=0, IF(F25=0, 0, "DIV/0!"), (F25-E25)/E25) -> 0.047 | F26: Variazione percentuale prezzi - (F25-E25)/E25 | H26: =IF(H25=0, IF(I25=0, 0, "DIV/0!"), (I25-H25)/H25) -> 0 | I26: Variazione percentuale prezzi - (I25-H25)/H25
B27: INDICE - 2 | E27: INDICE - 2 | H27: INDICE - 2
B28: Solo per D2 (facoltativo) e per D3 (obbligatorio) | E28: Solo per D2 (facoltativo) e per D3 (obbligatorio) | H28: Solo per D2 (facoltativo) e per D3 (obbligatorio)
B29: Indice al momento dell'aggiudicazione | C29: Indice al momento della revisione della clausola revisionale secondo frequenza | E29: Indice al momento dell'aggiudicazione | F29: Indice al momento della revisione della clausola revisionale secondo frequenza | H29: Indice al momento dell'aggiudicazione | I29: ndice al momento della revisione della clausola revisionale secondo frequenza
B30: =user!D13 -> 0 | C30: =user!E13 -> 0 | E30: =user!D23 -> 0 | F30: =user!E23 -> 0 | H30: =user!D33 -> 0 | I30: =user!E33 -> 0
B31: =IF(B30=0, IF(C30=0, 0, "DIV/0!"), (C30-B30)/B30) -> 0 | C31: Variazione percentuale prezzi - (C30-B30)/B30 | E31: =IF(E30=0, IF(F30=0, 0, "DIV/0!"), (F30-E30)/E30) -> 0 | F31: Variazione percentuale prezzi - (F30-E30)/E30 | H31: =IF(H30=0, IF(I30=0, 0, "DIV/0!"), (I30-H30)/H30) -> 0 | I31: Variazione percentuale prezzi - (I30-H30)/H30
B32: INDICE - 3 | E32: INDICE - 3 | H32: INDICE - 3
B33: Indice al momento dell'aggiudicazione | C33: Indice al momento della revisione della clausola revisionale secondo frequenza | E33: Indice al momento dell'aggiudicazione | F33: Indice al momento della revisione della clausola revisionale secondo frequenza | H33: Indice al momento dell'aggiudicazione | I33: Indice al momento della revisione della clausola revisionale secondo frequenza
B34: =user!D14 -> 0 | C34: =user!E14 -> 0 | E34: =user!D24 -> 0 | F34: =user!E24 -> 0 | H34: =user!D34 -> 0 | I34: =user!E34 -> 0
B35: =IF(B34=0, IF(C34=0, 0, "DIV/0!"), (C34-B34)/B34) -> 0 | C35: Variazione percentuale prezzi - (C34-B34)/B34 | E35: =IF(E34=0, IF(F34=0, 0, "DIV/0!"), (F34-E34)/E34) -> 0 | F35: Variazione percentuale prezzi - (F34-E34)/E34 | H35: =IF(H34=0, IF(I34=0, 0, "DIV/0!"), (I34-H34)/H34) -> 0 | I35: Variazione percentuale prezzi - (I34-H34)/H34
C36: PESI | F36: PESI | I36: PESI
A37: Step 3 | B37: =B26 -> 0.083168317 | C37: =user!F12 -> 1 | E37: =E26 -> 0.047 | F37: =user!F22 -> 1 | H37: =H26 -> 0 | I37: =user!F32 -> 0
B38: =B31 -> 0 | C38: =user!F13 -> 0 | E38: =E31 -> 0 | F38: =user!F23 -> 0 | H38: =H31 -> 0 | I38: =user!F33 -> 0
B39: =B35 -> 0 | C39: =user!F14 -> 0 | E39: =E35 -> 0 | F39: =user!F24 -> 0 | H39: =H35 -> 0 | I39: =user!F34 -> 0
C40: =IF(AND(SUM(B37:B39)=0, SUM(C37:C39)<>1), "", IF(SUM(C37:C39)=1, "", "ERROR: Sum is not 1!")) | F40: =IF(AND(SUM(E37:E39)=0, SUM(F37:F39)<>1), "", IF(SUM(F37:F39)=1, "", "ERROR: Sum is not 1!")) | I40: =IF(AND(SUM(H37:H39)=0, SUM(I37:I39)<>1), "", IF(SUM(I37:I39)=1, "", "ERROR: Sum is not 1!"))
A41: Step 4 | B41: Variazione percentuale totale indici | C41: =SUMPRODUCT(B37:B39, C37:C39) -> 0.083168317 | E41: Variazione percentuale totale indici | F41: =SUMPRODUCT(E37:E39, F37:F39) -> 0.047 | H41: Variazione percentuale totale indici | I41: =SUMPRODUCT(H37:H39, I37:I39) -> 0
C42: B37, B38, B39 - Pesi in celle C37, C38, C39) Media ponderata = (B37×C37)+(B38×C38)+(B39×C39) / (C37+C38+C39)​ | F42: (Indici in celle E37, E38, E39 - Pesi in celle F37, F38, F39) Media ponderata = (E37×F37)+(E38×F38)+(E39×F39) / (F37+F38+F39)​ | I42: (Indici in celle H37, H38, H39 - Pesi in celle l37, l38, l39) Media ponderata = (H37×I37)+(H38×I38)+(H39×I39) / (I37+I38+I39)​
B43: N.B.: Questa è una versione beta. Si invita a verificare attentamente i calcoli riportati nella tabella. Non possiamo assumerci responsabilità per eventuali discrepanze o errori nei risultati. | E43: N.B.: Questa è una versione beta. Si invita a verificare attentamente i calcoli riportati nella tabella. Non possiamo assumerci responsabilità per eventuali discrepanze o errori nei risultati. | H43: N.B.: Questa è una versione beta. Si invita a verificare attentamente i calcoli riportati nella tabella. Non possiamo assumerci responsabilità per eventuali discrepanze o errori nei risultati.
